BEGIN:VCALENDAR
VERSION:2.0
PRODID:icalendar-ruby
CALSCALE:GREGORIAN
METHOD:PUBLISH
BEGIN:VEVENT
DTSTAMP:20260420T021159Z
UID:6ce04d73-47d2-4fe2-afa5-3d668d9681df
DTSTART:20251128T180000
DTEND:20251129T020000
DESCRIPTION:<p><span style="color: rgb(0\, 0\, 0)\;">It starts here. That m
 oment you’ve been counting down to. The finish line and the starting poi
 nt\, all in one.</span></p><p><span style="color: rgb(0\, 0\, 0)\;">For tw
 o days\, the city belongs to you. The streets\, the music\, the late night
 s that turn into early mornings. The feeling of being on the brink of some
 thing new\, something legendary. 🚀</span></p><p><span style="color: rgb
 (0\, 0\, 0)\;">Welcome to Rage in the City. Your moment. Your festival. Yo
 ur story in the making. ❤️</span></p><p><strong style="color: rgb(0\, 
 0\, 0)\;">NB!</strong></p><p><span style="color: rgb(0\, 0\, 0)\;">The per
 son attending the festival needs their own howler account with their name\
 , ID number and email address in order to to purchase a Passport. Parents 
 / Legal guardians must not purchase a ticket using their howler account as
  this will result in the parent / legal guardian name on the ticket.</span
 ></p><p><br></p><p><strong style="color: rgb(0\, 0\, 0)\;">REFUND PROTECT<
 /strong></p><p><span style="color: rgb(0\, 0\, 0)\;">We offer the possibil
 ity to upgrade your refund terms when you make a purchase. This will allow
  you to receive a 100% refund if you cannot attend for one of the many rea
 sons. See Terms and Conditions here: https://www.refundable.me/</span></p>
 <p><span style="color: rgb(0\, 0\, 0)\;">Requesting a Refund:</span></p><p
 ><span style="color: rgb(0\, 0\, 0)\;">To apply for a Refund\, simply clic
 k on the link in Your booking confirmation email. The application must be 
 completed up to 60 days after the Booking.</span></p><p><span style="color
 : rgb(0\, 0\, 0)\;">Should you not want the protection\, simply uncheck th
 e checkbox and you will not be charged.</span></p>
LOCATION:1 Fox Street Johannesburg.\, Johannesburg\, Gauteng\, 2000
SUMMARY:Rage In The City 2025
URL;VALUE=URI:https://ritc.howler.co.za/ritc25
END:VEVENT
END:VCALENDAR
