BEGIN:VCALENDAR
VERSION:2.0
PRODID:icalendar-ruby
CALSCALE:GREGORIAN
METHOD:PUBLISH
BEGIN:VEVENT
DTSTAMP:20260420T020840Z
UID:5519085e-bc55-4d76-8325-1dcf57b895d1
DTSTART:20251128T180000
DTEND:20251130T020000
DESCRIPTION:<p><strong style="color: rgb(0\, 0\, 0)\;">CLASS OF ‘25\, IT 
 STARTS HERE. THAT MOMENT YOU’VE BEEN COUNTING DOWN TO. RAGE IN THE CITY 
 IS BACK - BIGGER\, BOLDER\, AND READY TO SET JOBURG ON FIRE. </strong></p
 ><p><strong style="color: rgb(0\, 0\, 0)\;">Johannesburg </strong><span st
 yle="color: rgb(0\, 0\, 0)\;">sets the stage from 28-29 November</span></p
 ><p><span style="color: rgb(0\, 0\, 0)\;">It starts here. That moment you
 ’ve been counting down to. The finish line and the starting point\, all 
 in one. The immense anticipation of stepping into something bigger than yo
 u’ve ever known.</span></p><p><span style="color: rgb(0\, 0\, 0)\;">For 
 two days\, the city belongs to you. The streets\, the music\, the late nig
 hts that turn into early mornings. The feeling of being on the brink of so
 mething new\, something legendary. It’s not just about the festival—it
 ’s about the people. The friends who have been by your side\, in the tre
 nches through every late-night study session\, every exam\, morning assemb
 ly\; every single school memory that shaped you. It’s the final moment b
 efore your world gets bigger</span></p><p><span style="color: rgb(0\, 0\, 
 0)\;">Pre-Register to secure a one day preference to purchase a Rage In Th
 e City Passport before sales open to the general public. Pre-Registration 
 is open from 26 May 2025 & will run for a limited amount of time. With lim
 ited availability of Passports\, Pre-Registering ensures you have the best
  chance to lock in your ideal Passport type without any worry. Pre-Registe
 ring also saves time with pre-captured information\, making the booking pr
 ocess faster and easier.</span></p><p><span style="color: rgb(0\, 0\, 0)\;
 ">And guess what? It’s FREE! Pre-Registering doesn’t mean you have to 
 purchase immediately—it simply ensures you’re fully prepared when Pass
 ports go on sale.</span></p><p><span style="color: rgb(0\, 0\, 0)\;">NB! P
 re-Registration is for Ragers only. Parents / Legal guardians can Pre-Regi
 ster to receive communication\, however\, the person attending the festiva
 l needs their own howler account with their name\, ID number and email add
 ress in order to qualify to purchase a Rage In The City Passport. Parents 
 / Legal guardians will not be able to purchase a Rage In The City Passport
  using their howler account.</span></p><p><br></p><p><br></p>
SUMMARY:Rage In The City 2025 Pre-Registration
URL;VALUE=URI:https://ritc.howler.co.za/ritcreg
END:VEVENT
END:VCALENDAR
